BEGIN:VCALENDAR
VERSION:2.0
PRODID:-//jEvents 2.0 for Joomla//EN
CALSCALE:GREGORIAN
METHOD:PUBLISH
BEGIN:VEVENT
UID:CSVConvertcae4540dd44592289cde982e9c5b395c
CATEGORIES:Vencimientos
CREATED:20230323T174807
SUMMARY:Vencimiento SIRCREB (Presentacion DDJJ -2da. decena Junio)
DESCRIPTION:
DTSTAMP:20260421T202521
DTSTART;TZID=America/Argentina/Buenos_Aires;VALUE=DATE:20180626
DTEND;TZID=America/Argentina/Buenos_Aires;VALUE=DATE:20180627
SEQUENCE:0
TRANSP:OPAQUE
END:VEVENT
END:VCALENDAR