BEGIN:VCALENDAR
VERSION:2.0
PRODID:-//jEvents 2.0 for Joomla//EN
CALSCALE:GREGORIAN
METHOD:PUBLISH
BEGIN:VEVENT
UID:CSVConvertc98d268747f0d6e7b1b2974a46411a4c
CATEGORIES:Vencimientos
CREATED:20230323T174807
SUMMARY:Vencimiento SIFERE - Convenio Multilateral - 12/2018(CUIT 0 A 2)
DESCRIPTION:
DTSTAMP:20260421T103204
DTSTART;TZID=America/Argentina/Buenos_Aires;VALUE=DATE:20190115
DTEND;TZID=America/Argentina/Buenos_Aires;VALUE=DATE:20190116
SEQUENCE:0
TRANSP:OPAQUE
END:VEVENT
END:VCALENDAR