BEGIN:VCALENDAR
VERSION:2.0
PRODID:-//jEvents 2.0 for Joomla//EN
CALSCALE:GREGORIAN
METHOD:PUBLISH
BEGIN:VEVENT
UID:CSVConvertc949ba80a9a5adee4bf08518c807b453
CATEGORIES:Vencimientos
CREATED:20230323T174807
SUMMARY:Vencimiento SIRCREB (Presentación DDJJ -3ra. decena Octubre)
DESCRIPTION:
DTSTAMP:20260421T152501
DTSTART;TZID=America/Argentina/Buenos_Aires;VALUE=DATE:20191106
DTEND;TZID=America/Argentina/Buenos_Aires;VALUE=DATE:20191107
SEQUENCE:0
TRANSP:OPAQUE
END:VEVENT
END:VCALENDAR