BEGIN:VCALENDAR
VERSION:2.0
PRODID:-//jEvents 2.0 for Joomla//EN
CALSCALE:GREGORIAN
METHOD:PUBLISH
BEGIN:VEVENT
UID:CSVConvertc768444691c3505a4893808e7fc8aca0
CATEGORIES:Vencimientos
CREATED:20230323T174807
SUMMARY:Vencimiento SIRCAR - 1ra Quincena - 03/2019 (CUIT 5 a 9)
DESCRIPTION:
DTSTAMP:20260421T132321
DTSTART;TZID=America/Argentina/Buenos_Aires;VALUE=DATE:20190325
DTEND;TZID=America/Argentina/Buenos_Aires;VALUE=DATE:20190326
SEQUENCE:0
TRANSP:OPAQUE
END:VEVENT
END:VCALENDAR