BEGIN:VCALENDAR
VERSION:2.0
PRODID:-//jEvents 2.0 for Joomla//EN
CALSCALE:GREGORIAN
METHOD:PUBLISH
BEGIN:VEVENT
UID:CSVConvertc6b5cc0ebda5cf016cce878580d9171d
CATEGORIES:Vencimientos
CREATED:20230323T174807
SUMMARY:Vencimiento SIRCREB (Presentación DDJJ -1ra. decena Enero)
DESCRIPTION:
DTSTAMP:20260421T102958
DTSTART;TZID=America/Argentina/Buenos_Aires;VALUE=DATE:20190116
DTEND;TZID=America/Argentina/Buenos_Aires;VALUE=DATE:20190117
SEQUENCE:0
TRANSP:OPAQUE
END:VEVENT
END:VCALENDAR