BEGIN:VCALENDAR
VERSION:2.0
PRODID:-//jEvents 2.0 for Joomla//EN
CALSCALE:GREGORIAN
METHOD:PUBLISH
BEGIN:VEVENT
UID:CSVConvertc4fc0d0ee1361dc6a183289e63db6d77
CATEGORIES:Vencimientos
CREATED:20230323T174807
SUMMARY:Vencimiento SIFERE - Convenio Multilateral - 12/2017 (CUIT 6 y 7)
DESCRIPTION:
DTSTAMP:20260421T194555
DTSTART;TZID=America/Argentina/Buenos_Aires;VALUE=DATE:20180117
DTEND;TZID=America/Argentina/Buenos_Aires;VALUE=DATE:20180118
SEQUENCE:0
TRANSP:OPAQUE
END:VEVENT
END:VCALENDAR