BEGIN:VCALENDAR
VERSION:2.0
PRODID:-//jEvents 2.0 for Joomla//EN
CALSCALE:GREGORIAN
METHOD:PUBLISH
BEGIN:VEVENT
UID:CSVConvertc4e037fa9b482e87696cb712e91c137a
CATEGORIES:Vencimientos
CREATED:20230323T174807
SUMMARY:Vencimiento SIRCREB (Pago DDJJ - 3ra. decena Septiembre)
DESCRIPTION:
DTSTAMP:20260421T114013
DTSTART;TZID=America/Argentina/Buenos_Aires;VALUE=DATE:20191007
DTEND;TZID=America/Argentina/Buenos_Aires;VALUE=DATE:20191008
SEQUENCE:0
TRANSP:OPAQUE
END:VEVENT
END:VCALENDAR