BEGIN:VCALENDAR
VERSION:2.0
PRODID:-//jEvents 2.0 for Joomla//EN
CALSCALE:GREGORIAN
METHOD:PUBLISH
BEGIN:VEVENT
UID:CSVConvertc4aa7772f30f97ecbde897a530c08200
CATEGORIES:Vencimientos
CREATED:20230323T174806
SUMMARY:Vencimiento SIFERE - Convenio Multilateral - 12/2018(CUIT 6 A 7)
DESCRIPTION:
DTSTAMP:20260421T113940
DTSTART;TZID=America/Argentina/Buenos_Aires;VALUE=DATE:20190117
DTEND;TZID=America/Argentina/Buenos_Aires;VALUE=DATE:20190118
SEQUENCE:0
TRANSP:OPAQUE
END:VEVENT
END:VCALENDAR