BEGIN:VCALENDAR
VERSION:2.0
PRODID:-//jEvents 2.0 for Joomla//EN
CALSCALE:GREGORIAN
METHOD:PUBLISH
BEGIN:VEVENT
UID:CSVConvertc3ba71965e0ea81da842366f21a2ea7c
CATEGORIES:Vencimientos
CREATED:20230323T174806
SUMMARY:Vencimiento SIRCAR - 1ra Quincena - 07/2018 (CUIT 0 a 4)
DESCRIPTION:
DTSTAMP:20260421T205415
DTSTART;TZID=America/Argentina/Buenos_Aires;VALUE=DATE:20180723
DTEND;TZID=America/Argentina/Buenos_Aires;VALUE=DATE:20180724
SEQUENCE:0
TRANSP:OPAQUE
END:VEVENT
END:VCALENDAR