BEGIN:VCALENDAR
VERSION:2.0
PRODID:-//jEvents 2.0 for Joomla//EN
CALSCALE:GREGORIAN
METHOD:PUBLISH
BEGIN:VEVENT
UID:CSVConvertc149e9d33da05c1db16ba92269937ff6
CATEGORIES:Vencimientos
CREATED:20230323T174806
SUMMARY:Vencimiento SIRCREB (Presentacion DDJJ -3ra. decena Septiembre)
DESCRIPTION:
DTSTAMP:20260421T221629
DTSTART;TZID=America/Argentina/Buenos_Aires;VALUE=DATE:20181004
DTEND;TZID=America/Argentina/Buenos_Aires;VALUE=DATE:20181005
SEQUENCE:0
TRANSP:OPAQUE
END:VEVENT
END:VCALENDAR