BEGIN:VCALENDAR
VERSION:2.0
PRODID:-//jEvents 2.0 for Joomla//EN
CALSCALE:GREGORIAN
METHOD:PUBLISH
BEGIN:VEVENT
UID:CSVConvert12a15c99f2e2a2bacda941751b696c86
CATEGORIES:Vencimientos
CREATED:20230323T174737
SUMMARY:Vencimiento SIFERE - Convenio Multilateral - 12/2017 (CUIT 3 a 5)
DESCRIPTION:
DTSTAMP:20260421T185358
DTSTART;TZID=America/Argentina/Buenos_Aires;VALUE=DATE:20180116
DTEND;TZID=America/Argentina/Buenos_Aires;VALUE=DATE:20180117
SEQUENCE:0
TRANSP:OPAQUE
END:VEVENT
END:VCALENDAR