BEGIN:VCALENDAR
VERSION:2.0
PRODID:-//jEvents 2.0 for Joomla//EN
CALSCALE:GREGORIAN
METHOD:PUBLISH
BEGIN:VEVENT
UID:CSVConvertbfe408b13323e1874669a7b5ebf17ae9
CATEGORIES:Vencimientos
CREATED:20230323T174806
SUMMARY:Vencimiento SIRCREB (Pago DDJJ - 1ra. decena Octubre)
DESCRIPTION:
DTSTAMP:20260421T103219
DTSTART;TZID=America/Argentina/Buenos_Aires;VALUE=DATE:20191018
DTEND;TZID=America/Argentina/Buenos_Aires;VALUE=DATE:20191019
SEQUENCE:0
TRANSP:OPAQUE
END:VEVENT
END:VCALENDAR