BEGIN:VCALENDAR
VERSION:2.0
PRODID:-//jEvents 2.0 for Joomla//EN
CALSCALE:GREGORIAN
METHOD:PUBLISH
BEGIN:VEVENT
UID:CSVConvertbe7163a41b6611f16d3ef1a70557c14a
CATEGORIES:Vencimientos
CREATED:20230323T174806
SUMMARY:Vencimiento SIRCAR - 2da Quincena y Mensual - 11/2019 (CUIT 5 a 9)
DESCRIPTION:
DTSTAMP:20260421T152413
DTSTART;TZID=America/Argentina/Buenos_Aires;VALUE=DATE:20191210
DTEND;TZID=America/Argentina/Buenos_Aires;VALUE=DATE:20191211
SEQUENCE:0
TRANSP:OPAQUE
END:VEVENT
END:VCALENDAR