BEGIN:VCALENDAR
VERSION:2.0
PRODID:-//jEvents 2.0 for Joomla//EN
CALSCALE:GREGORIAN
METHOD:PUBLISH
BEGIN:VEVENT
UID:CSVConvertbd31b5f0e83c149d050ec1262e69d600
CATEGORIES:Vencimientos
CREATED:20230323T174806
SUMMARY:Vencimiento SIRCAR - 2da Quincena y Mensual - 05/2018 (CUIT 5 a 9)
DESCRIPTION:
DTSTAMP:20260421T205141
DTSTART;TZID=America/Argentina/Buenos_Aires;VALUE=DATE:20180612
DTEND;TZID=America/Argentina/Buenos_Aires;VALUE=DATE:20180613
SEQUENCE:0
TRANSP:OPAQUE
END:VEVENT
END:VCALENDAR