BEGIN:VCALENDAR
VERSION:2.0
PRODID:-//jEvents 2.0 for Joomla//EN
CALSCALE:GREGORIAN
METHOD:PUBLISH
BEGIN:VEVENT
UID:CSVConvertbc5cd368ac1323bc6b85c85b4c52e982
CATEGORIES:Vencimientos
CREATED:20230323T174806
SUMMARY:Vencimiento SIRCREB (Pago DDJJ - 2da. decena Noviembre)
DESCRIPTION:
DTSTAMP:20260421T221629
DTSTART;TZID=America/Argentina/Buenos_Aires;VALUE=DATE:20181127
DTEND;TZID=America/Argentina/Buenos_Aires;VALUE=DATE:20181128
SEQUENCE:0
TRANSP:OPAQUE
END:VEVENT
END:VCALENDAR