BEGIN:VCALENDAR
VERSION:2.0
PRODID:-//jEvents 2.0 for Joomla//EN
CALSCALE:GREGORIAN
METHOD:PUBLISH
BEGIN:VEVENT
UID:CSVConvertbbc0c9a9e721da0e8d58b03b158b7324
CATEGORIES:Vencimientos
CREATED:20230323T174805
SUMMARY:Vencimiento SIRCREB (Presentación DDJJ -3ra. decena Febrero)
DESCRIPTION:
DTSTAMP:20260421T132736
DTSTART;TZID=America/Argentina/Buenos_Aires;VALUE=DATE:20190308
DTEND;TZID=America/Argentina/Buenos_Aires;VALUE=DATE:20190309
SEQUENCE:0
TRANSP:OPAQUE
END:VEVENT
END:VCALENDAR