BEGIN:VCALENDAR
VERSION:2.0
PRODID:-//jEvents 2.0 for Joomla//EN
CALSCALE:GREGORIAN
METHOD:PUBLISH
BEGIN:VEVENT
UID:CSVConvertb9ef73478c58e0075647803c4cc17a12
CATEGORIES:Vencimientos
CREATED:20230323T174805
SUMMARY:Vencimiento SIFERE - Convenio Multilateral - 09/2018(CUIT 0 A 2)
DESCRIPTION:
DTSTAMP:20260421T221548
DTSTART;TZID=America/Argentina/Buenos_Aires;VALUE=DATE:20181016
DTEND;TZID=America/Argentina/Buenos_Aires;VALUE=DATE:20181017
SEQUENCE:0
TRANSP:OPAQUE
END:VEVENT
END:VCALENDAR