BEGIN:VCALENDAR
VERSION:2.0
PRODID:-//jEvents 2.0 for Joomla//EN
CALSCALE:GREGORIAN
METHOD:PUBLISH
BEGIN:VEVENT
UID:CSVConvertb86dfb8e61a8075c569eb34c25fb343e
CATEGORIES:Vencimientos
CREATED:20230323T174805
SUMMARY:Vencimiento SIFERE - Convenio Multilateral - 11/2019 (CUIT 0 a 2)
DESCRIPTION:
DTSTAMP:20260421T132737
DTSTART;TZID=America/Argentina/Buenos_Aires;VALUE=DATE:20191216
DTEND;TZID=America/Argentina/Buenos_Aires;VALUE=DATE:20191217
SEQUENCE:0
TRANSP:OPAQUE
END:VEVENT
END:VCALENDAR