BEGIN:VCALENDAR
VERSION:2.0
PRODID:-//jEvents 2.0 for Joomla//EN
CALSCALE:GREGORIAN
METHOD:PUBLISH
BEGIN:VEVENT
UID:CSVConvertb7b531709fe31390d303482438469fc3
CATEGORIES:Vencimientos
CREATED:20230323T174805
SUMMARY:Vencimiento SIRCAR - 2da Quincena y Mensual - 10/2018 (CUIT 0 a 4)
DESCRIPTION:
DTSTAMP:20260421T235219
DTSTART;TZID=America/Argentina/Buenos_Aires;VALUE=DATE:20181109
DTEND;TZID=America/Argentina/Buenos_Aires;VALUE=DATE:20181110
SEQUENCE:0
TRANSP:OPAQUE
END:VEVENT
END:VCALENDAR