BEGIN:VCALENDAR
VERSION:2.0
PRODID:-//jEvents 2.0 for Joomla//EN
CALSCALE:GREGORIAN
METHOD:PUBLISH
BEGIN:VEVENT
UID:CSVConvert010765158093b36a5314688c874c9372
CATEGORIES:Vencimientos
CREATED:20230323T174736
SUMMARY:Vencimiento SIRCREB (Presentacion DDJJ -1ra. decena Febrero)
DESCRIPTION:
DTSTAMP:20260421T222453
DTSTART;TZID=America/Argentina/Buenos_Aires;VALUE=DATE:20180219
DTEND;TZID=America/Argentina/Buenos_Aires;VALUE=DATE:20180220
SEQUENCE:0
TRANSP:OPAQUE
END:VEVENT
END:VCALENDAR