BEGIN:VCALENDAR
VERSION:2.0
PRODID:-//jEvents 2.0 for Joomla//EN
CALSCALE:GREGORIAN
METHOD:PUBLISH
BEGIN:VEVENT
UID:CSVConvertb64332a7489cc21ca463a1493df85828
CATEGORIES:Vencimientos
CREATED:20230323T174804
SUMMARY:Vencimiento SIFERE - Convenio Multilateral - 03/2018(CUIT 6 A 7)
DESCRIPTION:
DTSTAMP:20260421T203119
DTSTART;TZID=America/Argentina/Buenos_Aires;VALUE=DATE:20180418
DTEND;TZID=America/Argentina/Buenos_Aires;VALUE=DATE:20180419
SEQUENCE:0
TRANSP:OPAQUE
END:VEVENT
END:VCALENDAR