BEGIN:VCALENDAR
VERSION:2.0
PRODID:-//jEvents 2.0 for Joomla//EN
CALSCALE:GREGORIAN
METHOD:PUBLISH
BEGIN:VEVENT
UID:CSVConvertb2db71e69a84984d58762b4796158fd0
CATEGORIES:Vencimientos
CREATED:20230323T174804
SUMMARY:Vencimiento SIRCAR - 2da Quincena y Mensual - 01/2018 (CUIT 0 a 4)
DESCRIPTION:
DTSTAMP:20260421T203703
DTSTART;TZID=America/Argentina/Buenos_Aires;VALUE=DATE:20180209
DTEND;TZID=America/Argentina/Buenos_Aires;VALUE=DATE:20180210
SEQUENCE:0
TRANSP:OPAQUE
END:VEVENT
END:VCALENDAR