BEGIN:VCALENDAR
VERSION:2.0
PRODID:-//jEvents 2.0 for Joomla//EN
CALSCALE:GREGORIAN
METHOD:PUBLISH
BEGIN:VEVENT
UID:CSVConvertb2729a347be7df679d80605d148a52cb
CATEGORIES:Vencimientos
CREATED:20230323T174804
SUMMARY:Vencimiento SIRCREB (Pago DDJJ - 1ra. decena Febrero)
DESCRIPTION:
DTSTAMP:20260421T205124
DTSTART;TZID=America/Argentina/Buenos_Aires;VALUE=DATE:20180220
DTEND;TZID=America/Argentina/Buenos_Aires;VALUE=DATE:20180221
SEQUENCE:0
TRANSP:OPAQUE
END:VEVENT
END:VCALENDAR