BEGIN:VCALENDAR
VERSION:2.0
PRODID:-//jEvents 2.0 for Joomla//EN
CALSCALE:GREGORIAN
METHOD:PUBLISH
BEGIN:VEVENT
UID:CSVConvertb13b335c1089ec72f8efde30922da885
CATEGORIES:Vencimientos
CREATED:20230323T174804
SUMMARY:Vencimiento SIRCREB (Pago DDJJ - 3ra. decena Octubre)
DESCRIPTION:
DTSTAMP:20260421T153055
DTSTART;TZID=America/Argentina/Buenos_Aires;VALUE=DATE:20191107
DTEND;TZID=America/Argentina/Buenos_Aires;VALUE=DATE:20191108
SEQUENCE:0
TRANSP:OPAQUE
END:VEVENT
END:VCALENDAR