BEGIN:VCALENDAR
VERSION:2.0
PRODID:-//jEvents 2.0 for Joomla//EN
CALSCALE:GREGORIAN
METHOD:PUBLISH
BEGIN:VEVENT
UID:CSVConvertb0a21c65fb53f013dde1fb94d6dc4ffb
CATEGORIES:Vencimientos
CREATED:20230323T174804
SUMMARY:Vencimiento SIRCAR - 1ra Quincena - 09/2018 (CUIT 0 a 4)
DESCRIPTION:
DTSTAMP:20260421T222453
DTSTART;TZID=America/Argentina/Buenos_Aires;VALUE=DATE:20180924
DTEND;TZID=America/Argentina/Buenos_Aires;VALUE=DATE:20180925
SEQUENCE:0
TRANSP:OPAQUE
END:VEVENT
END:VCALENDAR