BEGIN:VCALENDAR
VERSION:2.0
PRODID:-//jEvents 2.0 for Joomla//EN
CALSCALE:GREGORIAN
METHOD:PUBLISH
BEGIN:VEVENT
UID:CSVConvertb0055d9a5647dac959598367015df3f5
CATEGORIES:Vencimientos
CREATED:20230323T174803
SUMMARY:Vencimiento SIRCREB (Presentacion DDJJ -1ra. decena Enero)
DESCRIPTION:
DTSTAMP:20260421T185445
DTSTART;TZID=America/Argentina/Buenos_Aires;VALUE=DATE:20180116
DTEND;TZID=America/Argentina/Buenos_Aires;VALUE=DATE:20180117
SEQUENCE:0
TRANSP:OPAQUE
END:VEVENT
END:VCALENDAR