BEGIN:VCALENDAR
VERSION:2.0
PRODID:-//jEvents 2.0 for Joomla//EN
CALSCALE:GREGORIAN
METHOD:PUBLISH
BEGIN:VEVENT
UID:CSVConvertafeaa877cbdcf3dcc7c07788e6d26e97
CATEGORIES:Vencimientos
CREATED:20230323T174803
SUMMARY:Vencimiento SIFERE - Convenio Multilateral - 09/2019 (CUIT 8 y 9)
DESCRIPTION:
DTSTAMP:20260421T102910
DTSTART;TZID=America/Argentina/Buenos_Aires;VALUE=DATE:20191018
DTEND;TZID=America/Argentina/Buenos_Aires;VALUE=DATE:20191019
SEQUENCE:0
TRANSP:OPAQUE
END:VEVENT
END:VCALENDAR