BEGIN:VCALENDAR
VERSION:2.0
PRODID:-//jEvents 2.0 for Joomla//EN
CALSCALE:GREGORIAN
METHOD:PUBLISH
BEGIN:VEVENT
UID:CSVConvertadf6e59f42e0b7d7dc181d8a2fd59293
CATEGORIES:Vencimientos
CREATED:20230323T174803
SUMMARY:Vencimiento SIRCAR - 1ra Quincena - 04/2018 (CUIT 0 a 4)
DESCRIPTION:
DTSTAMP:20260421T221628
DTSTART;TZID=America/Argentina/Buenos_Aires;VALUE=DATE:20180423
DTEND;TZID=America/Argentina/Buenos_Aires;VALUE=DATE:20180424
SEQUENCE:0
TRANSP:OPAQUE
END:VEVENT
END:VCALENDAR