BEGIN:VCALENDAR
VERSION:2.0
PRODID:-//jEvents 2.0 for Joomla//EN
CALSCALE:GREGORIAN
METHOD:PUBLISH
BEGIN:VEVENT
UID:CSVConvertad445be3288562995df725676d78bc98
CATEGORIES:Vencimientos
CREATED:20230323T174803
SUMMARY:Vencimiento SIFERE - Convenio Multilateral - 12/2018(CUIT 3 A 5)
DESCRIPTION:
DTSTAMP:20260421T113849
DTSTART;TZID=America/Argentina/Buenos_Aires;VALUE=DATE:20190116
DTEND;TZID=America/Argentina/Buenos_Aires;VALUE=DATE:20190117
SEQUENCE:0
TRANSP:OPAQUE
END:VEVENT
END:VCALENDAR