BEGIN:VCALENDAR
VERSION:2.0
PRODID:-//jEvents 2.0 for Joomla//EN
CALSCALE:GREGORIAN
METHOD:PUBLISH
BEGIN:VEVENT
UID:CSVConvertaccfce4faabf1c123917e681f3ae67d6
CATEGORIES:Vencimientos
CREATED:20230323T174803
SUMMARY:Vencimiento SIRCAR - 1ra Quincena - 04/2018 (CUIT 5 a 9)
DESCRIPTION:
DTSTAMP:20260421T202908
DTSTART;TZID=America/Argentina/Buenos_Aires;VALUE=DATE:20180424
DTEND;TZID=America/Argentina/Buenos_Aires;VALUE=DATE:20180425
SEQUENCE:0
TRANSP:OPAQUE
END:VEVENT
END:VCALENDAR