BEGIN:VCALENDAR
VERSION:2.0
PRODID:-//jEvents 2.0 for Joomla//EN
CALSCALE:GREGORIAN
METHOD:PUBLISH
BEGIN:VEVENT
UID:CSVConvertaca699bf6dab5c4ba210e4aeec19c2f0
CATEGORIES:Vencimientos
CREATED:20230323T174803
SUMMARY:Vencimiento SIFERE - Convenio Multilateral - 08/2018(CUIT 6 A 7)
DESCRIPTION:
DTSTAMP:20260421T221408
DTSTART;TZID=America/Argentina/Buenos_Aires;VALUE=DATE:20180919
DTEND;TZID=America/Argentina/Buenos_Aires;VALUE=DATE:20180920
SEQUENCE:0
TRANSP:OPAQUE
END:VEVENT
END:VCALENDAR