BEGIN:VCALENDAR
VERSION:2.0
PRODID:-//jEvents 2.0 for Joomla//EN
CALSCALE:GREGORIAN
METHOD:PUBLISH
BEGIN:VEVENT
UID:CSVConvertab10395de3c372e130daeef97bf4c0a4
CATEGORIES:Vencimientos
CREATED:20230323T174803
SUMMARY:Vencimiento SIRCREB (Presentación DDJJ -3ra. decena Diciembre)
DESCRIPTION:
DTSTAMP:20260421T203120
DTSTART;TZID=America/Argentina/Buenos_Aires;VALUE=DATE:20180105
DTEND;TZID=America/Argentina/Buenos_Aires;VALUE=DATE:20180106
SEQUENCE:0
TRANSP:OPAQUE
END:VEVENT
END:VCALENDAR