BEGIN:VCALENDAR
VERSION:2.0
PRODID:-//jEvents 2.0 for Joomla//EN
CALSCALE:GREGORIAN
METHOD:PUBLISH
BEGIN:VEVENT
UID:CSVConvertaa7f47735258a718bcdcbde3a3ef2534
CATEGORIES:Vencimientos
CREATED:20230323T174803
SUMMARY:Vencimiento SIFERE - Convenio Multilateral - 04/2018(CUIT 3 A 5)
DESCRIPTION:
DTSTAMP:20260421T203835
DTSTART;TZID=America/Argentina/Buenos_Aires;VALUE=DATE:20180516
DTEND;TZID=America/Argentina/Buenos_Aires;VALUE=DATE:20180517
SEQUENCE:0
TRANSP:OPAQUE
END:VEVENT
END:VCALENDAR