BEGIN:VCALENDAR
VERSION:2.0
PRODID:-//jEvents 2.0 for Joomla//EN
CALSCALE:GREGORIAN
METHOD:PUBLISH
BEGIN:VEVENT
UID:CSVConverta87641bef1f2d8ae6be7bde1e8f68f08
CATEGORIES:Vencimientos
CREATED:20230323T174802
SUMMARY:Vencimiento SIRCAR - 1ra Quincena - 03/2018 (CUIT 5 a 9)
DESCRIPTION:
DTSTAMP:20260421T202832
DTSTART;TZID=America/Argentina/Buenos_Aires;VALUE=DATE:20180323
DTEND;TZID=America/Argentina/Buenos_Aires;VALUE=DATE:20180324
SEQUENCE:0
TRANSP:OPAQUE
END:VEVENT
END:VCALENDAR