BEGIN:VCALENDAR
VERSION:2.0
PRODID:-//jEvents 2.0 for Joomla//EN
CALSCALE:GREGORIAN
METHOD:PUBLISH
BEGIN:VEVENT
UID:CSVConverta666d82759f8b4677d31509640676798
CATEGORIES:Vencimientos
CREATED:20230323T174802
SUMMARY:Vencimiento SIRCAR - 1ra Quincena - 10/2018 (CUIT 0 a 4)
DESCRIPTION:
DTSTAMP:20260421T222802
DTSTART;TZID=America/Argentina/Buenos_Aires;VALUE=DATE:20181022
DTEND;TZID=America/Argentina/Buenos_Aires;VALUE=DATE:20181023
SEQUENCE:0
TRANSP:OPAQUE
END:VEVENT
END:VCALENDAR