BEGIN:VCALENDAR
VERSION:2.0
PRODID:-//jEvents 2.0 for Joomla//EN
CALSCALE:GREGORIAN
METHOD:PUBLISH
BEGIN:VEVENT
UID:CSVConverta3487cf03a307faed529926e4046c8d3
CATEGORIES:Vencimientos
CREATED:20230323T174802
SUMMARY:Vencimiento SIRCAR - 1ra Quincena - 10/2019 (CUIT 0 a 4)
DESCRIPTION:
DTSTAMP:20260421T115629
DTSTART;TZID=America/Argentina/Buenos_Aires;VALUE=DATE:20191022
DTEND;TZID=America/Argentina/Buenos_Aires;VALUE=DATE:20191023
SEQUENCE:0
TRANSP:OPAQUE
END:VEVENT
END:VCALENDAR