BEGIN:VCALENDAR
VERSION:2.0
PRODID:-//jEvents 2.0 for Joomla//EN
CALSCALE:GREGORIAN
METHOD:PUBLISH
BEGIN:VEVENT
UID:CSVConverta076e965bd8a6f1a6510dd68bfdf3eed
CATEGORIES:Vencimientos
CREATED:20230323T174801
SUMMARY:Vencimiento SIRCAR - 2da Quincena y Mensual - 12/2018 (CUIT 0 a 4)
DESCRIPTION:
DTSTAMP:20260421T132327
DTSTART;TZID=America/Argentina/Buenos_Aires;VALUE=DATE:20190109
DTEND;TZID=America/Argentina/Buenos_Aires;VALUE=DATE:20190110
SEQUENCE:0
TRANSP:OPAQUE
END:VEVENT
END:VCALENDAR