BEGIN:VCALENDAR
VERSION:2.0
PRODID:-//jEvents 2.0 for Joomla//EN
CALSCALE:GREGORIAN
METHOD:PUBLISH
BEGIN:VEVENT
UID:CSVConverta073d3413c3ae6bc2191ff155d4ff24b
CATEGORIES:Vencimientos
CREATED:20230323T174801
SUMMARY:Vencimiento SIRCAR - 1ra Quincena - 08/2018 (CUIT 0 a 4)
DESCRIPTION:
DTSTAMP:20260421T223135
DTSTART;TZID=America/Argentina/Buenos_Aires;VALUE=DATE:20180822
DTEND;TZID=America/Argentina/Buenos_Aires;VALUE=DATE:20180823
SEQUENCE:0
TRANSP:OPAQUE
END:VEVENT
END:VCALENDAR