BEGIN:VCALENDAR
VERSION:2.0
PRODID:-//jEvents 2.0 for Joomla//EN
CALSCALE:GREGORIAN
METHOD:PUBLISH
BEGIN:VEVENT
UID:CSVConvert9ed3545cf4fed44c01e47af17001f96f
CATEGORIES:Vencimientos
CREATED:20230323T174801
SUMMARY:Vencimiento SIRCREB (Presentacion DDJJ -3ra. decena Febrero)
DESCRIPTION:
DTSTAMP:20260421T204120
DTSTART;TZID=America/Argentina/Buenos_Aires;VALUE=DATE:20180306
DTEND;TZID=America/Argentina/Buenos_Aires;VALUE=DATE:20180307
SEQUENCE:0
TRANSP:OPAQUE
END:VEVENT
END:VCALENDAR