BEGIN:VCALENDAR
VERSION:2.0
PRODID:-//jEvents 2.0 for Joomla//EN
CALSCALE:GREGORIAN
METHOD:PUBLISH
BEGIN:VEVENT
UID:CSVConvert9d0dc1400f0dcf62e14f562e0ee28ed5
CATEGORIES:Vencimientos
CREATED:20230323T174801
SUMMARY:Vencimiento SIRCREB (Pago DDJJ - 2da. decena Enero)
DESCRIPTION:
DTSTAMP:20260421T132823
DTSTART;TZID=America/Argentina/Buenos_Aires;VALUE=DATE:20190125
DTEND;TZID=America/Argentina/Buenos_Aires;VALUE=DATE:20190126
SEQUENCE:0
TRANSP:OPAQUE
END:VEVENT
END:VCALENDAR