BEGIN:VCALENDAR
VERSION:2.0
PRODID:-//jEvents 2.0 for Joomla//EN
CALSCALE:GREGORIAN
METHOD:PUBLISH
BEGIN:VEVENT
UID:CSVConvert9d0a69bf5419508698bc441cd4175711
CATEGORIES:Vencimientos
CREATED:20230323T174801
SUMMARY:Vencimiento SIRCAR - 2da Quincena y Mensual - 07/2018 (CUIT 5 a 9)
DESCRIPTION:
DTSTAMP:20260422T000942
DTSTART;TZID=America/Argentina/Buenos_Aires;VALUE=DATE:20180810
DTEND;TZID=America/Argentina/Buenos_Aires;VALUE=DATE:20180811
SEQUENCE:0
TRANSP:OPAQUE
END:VEVENT
END:VCALENDAR