BEGIN:VCALENDAR
VERSION:2.0
PRODID:-//jEvents 2.0 for Joomla//EN
CALSCALE:GREGORIAN
METHOD:PUBLISH
BEGIN:VEVENT
UID:CSVConvert9cb770c34d6e038d71f4fa48856cd1d1
CATEGORIES:Vencimientos
CREATED:20230323T174801
SUMMARY:Vencimiento SIRCREB (Pago DDJJ - 1ra. decena Junio)
DESCRIPTION:
DTSTAMP:20260421T203109
DTSTART;TZID=America/Argentina/Buenos_Aires;VALUE=DATE:20180615
DTEND;TZID=America/Argentina/Buenos_Aires;VALUE=DATE:20180616
SEQUENCE:0
TRANSP:OPAQUE
END:VEVENT
END:VCALENDAR