BEGIN:VCALENDAR
VERSION:2.0
PRODID:-//jEvents 2.0 for Joomla//EN
CALSCALE:GREGORIAN
METHOD:PUBLISH
BEGIN:VEVENT
UID:CSVConvert9c9bc574963dae9c1f3502778422e244
CATEGORIES:Vencimientos
CREATED:20230323T174801
SUMMARY:Vencimiento SIRCAR - 2da Quincena y Mensual - 04/2018 (CUIT 0 a 4)
DESCRIPTION:
DTSTAMP:20260421T212419
DTSTART;TZID=America/Argentina/Buenos_Aires;VALUE=DATE:20180509
DTEND;TZID=America/Argentina/Buenos_Aires;VALUE=DATE:20180510
SEQUENCE:0
TRANSP:OPAQUE
END:VEVENT
END:VCALENDAR