BEGIN:VCALENDAR
VERSION:2.0
PRODID:-//jEvents 2.0 for Joomla//EN
CALSCALE:GREGORIAN
METHOD:PUBLISH
BEGIN:VEVENT
UID:CSVConvert9baa38313d8cc47786da089f5b48199f
CATEGORIES:Vencimientos
CREATED:20230323T174800
SUMMARY:Vencimiento SIRCREB (Presentación DDJJ -2da. decena Diciembre)
DESCRIPTION:
DTSTAMP:20260421T140245
DTSTART;TZID=America/Argentina/Buenos_Aires;VALUE=DATE:20191227
DTEND;TZID=America/Argentina/Buenos_Aires;VALUE=DATE:20191228
SEQUENCE:0
TRANSP:OPAQUE
END:VEVENT
END:VCALENDAR