BEGIN:VCALENDAR
VERSION:2.0
PRODID:-//jEvents 2.0 for Joomla//EN
CALSCALE:GREGORIAN
METHOD:PUBLISH
BEGIN:VEVENT
UID:CSVConvert9a6d7ad76e4a9c877b753f8532eb493d
CATEGORIES:Vencimientos
CREATED:20230323T174800
SUMMARY:Vencimiento SIFERE - Convenio Multilateral - 09/2019 (CUIT 3 a 5)
DESCRIPTION:
DTSTAMP:20260421T084930
DTSTART;TZID=America/Argentina/Buenos_Aires;VALUE=DATE:20191016
DTEND;TZID=America/Argentina/Buenos_Aires;VALUE=DATE:20191017
SEQUENCE:0
TRANSP:OPAQUE
END:VEVENT
END:VCALENDAR