BEGIN:VCALENDAR
VERSION:2.0
PRODID:-//jEvents 2.0 for Joomla//EN
CALSCALE:GREGORIAN
METHOD:PUBLISH
BEGIN:VEVENT
UID:CSVConvert9a3e792f61eb5412621695586055a044
CATEGORIES:Vencimientos
CREATED:20230323T174800
SUMMARY:Vencimiento SIRCREB (Pago DDJJ - 2da. decena Diciembre)
DESCRIPTION:
DTSTAMP:20260421T132900
DTSTART;TZID=America/Argentina/Buenos_Aires;VALUE=DATE:20191230
DTEND;TZID=America/Argentina/Buenos_Aires;VALUE=DATE:20191231
SEQUENCE:0
TRANSP:OPAQUE
END:VEVENT
END:VCALENDAR