BEGIN:VCALENDAR
VERSION:2.0
PRODID:-//jEvents 2.0 for Joomla//EN
CALSCALE:GREGORIAN
METHOD:PUBLISH
BEGIN:VEVENT
UID:CSVConvert9949c811be2b9088732d9b43f5197078
CATEGORIES:Vencimientos
CREATED:20230323T174800
SUMMARY:Vencimiento SIRCREB (Presentacion DDJJ -1ra. decena Diciembre)
DESCRIPTION:
DTSTAMP:20260421T210424
DTSTART;TZID=America/Argentina/Buenos_Aires;VALUE=DATE:20181214
DTEND;TZID=America/Argentina/Buenos_Aires;VALUE=DATE:20181215
SEQUENCE:0
TRANSP:OPAQUE
END:VEVENT
END:VCALENDAR