BEGIN:VCALENDAR
VERSION:2.0
PRODID:-//jEvents 2.0 for Joomla//EN
CALSCALE:GREGORIAN
METHOD:PUBLISH
BEGIN:VEVENT
UID:CSVConvert0f4ba105b9be85351e50500e875ece25
CATEGORIES:Vencimientos
CREATED:20230323T174737
SUMMARY:Vencimiento SIRCREB (Pago DDJJ - 2da. decena Agosto)
DESCRIPTION:
DTSTAMP:20260421T221548
DTSTART;TZID=America/Argentina/Buenos_Aires;VALUE=DATE:20180827
DTEND;TZID=America/Argentina/Buenos_Aires;VALUE=DATE:20180828
SEQUENCE:0
TRANSP:OPAQUE
END:VEVENT
END:VCALENDAR