BEGIN:VCALENDAR
VERSION:2.0
PRODID:-//jEvents 2.0 for Joomla//EN
CALSCALE:GREGORIAN
METHOD:PUBLISH
BEGIN:VEVENT
UID:CSVConvert94df2442ef28b9d9ca8bc6d5ccf01b17
CATEGORIES:Vencimientos
CREATED:20230323T174800
SUMMARY:Vencimiento SIRCREB (Pago DDJJ - 1ra. decena Mayo)
DESCRIPTION:
DTSTAMP:20260421T204441
DTSTART;TZID=America/Argentina/Buenos_Aires;VALUE=DATE:20180517
DTEND;TZID=America/Argentina/Buenos_Aires;VALUE=DATE:20180518
SEQUENCE:0
TRANSP:OPAQUE
END:VEVENT
END:VCALENDAR