BEGIN:VCALENDAR
VERSION:2.0
PRODID:-//jEvents 2.0 for Joomla//EN
CALSCALE:GREGORIAN
METHOD:PUBLISH
BEGIN:VEVENT
UID:CSVConvert925f025fc9a8642d4446d4e01ab47586
CATEGORIES:Vencimientos
CREATED:20230323T174759
SUMMARY:Vencimiento SIRCREB (Presentacion DDJJ -3ra. decena Diciembre)
DESCRIPTION:
DTSTAMP:20260421T105728
DTSTART;TZID=America/Argentina/Buenos_Aires;VALUE=DATE:20190107
DTEND;TZID=America/Argentina/Buenos_Aires;VALUE=DATE:20190108
SEQUENCE:0
TRANSP:OPAQUE
END:VEVENT
END:VCALENDAR